BEGIN:VCALENDAR
PRODID:-//github.com/rianjs/ical.net//NONSGML ical.net 4.0//EN
VERSION:2.0
BEGIN:VEVENT
DESCRIPTION:Nasjonale prøver 8. trinn + 9B lesing
DTEND:20170919T235959
DTSTAMP:20260419T134421Z
DTSTART;VALUE=DATE:20170919
LOCATION:I klasserommene
SEQUENCE:0
SUMMARY:Nasjonale prøver 8. trinn + 9B lesing
UID:de241172-8fbf-436b-b3de-a18ac5f21656
END:VEVENT
END:VCALENDAR
